BEGIN:VCALENDAR
VERSION:2.0
PRODID:-//Friends of Lincoln State Park - ECPv6.15.20//NONSGML v1.0//EN
CALSCALE:GREGORIAN
METHOD:PUBLISH
X-ORIGINAL-URL:https://lspfriends.com
X-WR-CALDESC:Events for Friends of Lincoln State Park
REFRESH-INTERVAL;VALUE=DURATION:PT1H
X-Robots-Tag:noindex
X-PUBLISHED-TTL:PT1H
BEGIN:VTIMEZONE
TZID:UTC
BEGIN:STANDARD
TZOFFSETFROM:+0000
TZOFFSETTO:+0000
TZNAME:UTC
DTSTART:20220101T000000
END:STANDARD
END:VTIMEZONE
BEGIN:VEVENT
DTSTART;TZID=UTC:20230506T090000
DTEND;TZID=UTC:20230506T103000
DTSTAMP:20260423T211253
CREATED:20210326T074210Z
LAST-MODIFIED:20230313T030825Z
UID:897-1683363600-1683369000@lspfriends.com
SUMMARY:Mr. Lincoln's Neighborhood 5K Run/Walk
DESCRIPTION:The Friends of Lincoln State Park and Indiana Department of Natural Resources will co-host the 13th Mr. Lincoln’s Neighborhood 5K Run/Walk on Saturday\, May 6 at 9:00 a.m. CDT in Lincoln State Park. \n\nThe early registration fee is $20 per person registering on or before April 30 and $30 from May 1 until race day.\nAll event participants will receive an event t-shirt while supplies last\, with t-shirts guaranteed for early registrants.  Registration Forms  are also available at the Lincoln State Park office.\nThe registration fee does not include the $7 in-state or $9 out-of-state per car gate fee to enter Lincoln State Park.\nAll proceeds will benefit Friends of Lincoln State Park to support special projects and events at Lincoln State Park.\n\n5K EVENT INFORMATION\n5K REGISTRATION
URL:https://lspfriends.com/event/5k/
LOCATION:Lincoln State Park Beach\, 15476 N County Rd 300 E\, Lincoln City\, IN\, 47552\, United States
CATEGORIES:Fitness and Hiking
ATTACH;FMTTYPE=image/jpeg:https://lspfriends.com/wp-content/uploads/2020/01/IMG_5188.jpg
END:VEVENT
END:VCALENDAR