BEGIN:VCALENDAR
VERSION:2.0
PRODID:-//Friends of Lincoln State Park - ECPv6.15.20//NONSGML v1.0//EN
CALSCALE:GREGORIAN
METHOD:PUBLISH
X-WR-CALNAME:Friends of Lincoln State Park
X-ORIGINAL-URL:https://lspfriends.com
X-WR-CALDESC:Events for Friends of Lincoln State Park
REFRESH-INTERVAL;VALUE=DURATION:PT1H
X-Robots-Tag:noindex
X-PUBLISHED-TTL:PT1H
BEGIN:VTIMEZONE
TZID:America/Indiana/Tell_City
BEGIN:DAYLIGHT
TZOFFSETFROM:-0600
TZOFFSETTO:-0500
TZNAME:CDT
DTSTART:20250309T080000
END:DAYLIGHT
BEGIN:STANDARD
TZOFFSETFROM:-0500
TZOFFSETTO:-0600
TZNAME:CST
DTSTART:20251102T070000
END:STANDARD
BEGIN:DAYLIGHT
TZOFFSETFROM:-0600
TZOFFSETTO:-0500
TZNAME:CDT
DTSTART:20260308T080000
END:DAYLIGHT
BEGIN:STANDARD
TZOFFSETFROM:-0500
TZOFFSETTO:-0600
TZNAME:CST
DTSTART:20261101T070000
END:STANDARD
BEGIN:DAYLIGHT
TZOFFSETFROM:-0600
TZOFFSETTO:-0500
TZNAME:CDT
DTSTART:20270314T080000
END:DAYLIGHT
BEGIN:STANDARD
TZOFFSETFROM:-0500
TZOFFSETTO:-0600
TZNAME:CST
DTSTART:20271107T070000
END:STANDARD
END:VTIMEZONE
BEGIN:VEVENT
DTSTART;TZID=America/Indiana/Tell_City:20260502T090000
DTEND;TZID=America/Indiana/Tell_City:20260502T103000
DTSTAMP:20260423T201142
CREATED:20240116T053855Z
LAST-MODIFIED:20260228T171107Z
UID:1759-1777712400-1777717800@lspfriends.com
SUMMARY:Mr. Lincoln's Neighborhood 5K - 2026
DESCRIPTION:The 16th Mr. Lincoln’s Neighborhood 5K Run/Walk is May 2\, 2026! \nCheck back soon for details and registration information. \n*The park entrance fee of $7 per Indiana vehicle or $9 per out-of-state vehicle will be in effect and is not included in the registration fee.
URL:https://lspfriends.com/event/5k-2024/
LOCATION:Lincoln State Park Beach\, 15476 N County Rd 300 E\, Lincoln City\, IN\, 47552\, United States
CATEGORIES:Fitness and Hiking
ATTACH;FMTTYPE=image/jpeg:https://lspfriends.com/wp-content/uploads/2024/01/5K-2024.jpg
END:VEVENT
END:VCALENDAR