BEGIN:VCALENDAR
VERSION:2.0
PRODID:-//Friends of Lincoln State Park - ECPv6.15.20//NONSGML v1.0//EN
CALSCALE:GREGORIAN
METHOD:PUBLISH
X-WR-CALNAME:Friends of Lincoln State Park
X-ORIGINAL-URL:https://lspfriends.com
X-WR-CALDESC:Events for Friends of Lincoln State Park
REFRESH-INTERVAL;VALUE=DURATION:PT1H
X-Robots-Tag:noindex
X-PUBLISHED-TTL:PT1H
BEGIN:VTIMEZONE
TZID:America/Indiana/Tell_City
BEGIN:DAYLIGHT
TZOFFSETFROM:-0600
TZOFFSETTO:-0500
TZNAME:CDT
DTSTART:20230312T080000
END:DAYLIGHT
BEGIN:STANDARD
TZOFFSETFROM:-0500
TZOFFSETTO:-0600
TZNAME:CST
DTSTART:20231105T070000
END:STANDARD
BEGIN:DAYLIGHT
TZOFFSETFROM:-0600
TZOFFSETTO:-0500
TZNAME:CDT
DTSTART:20240310T080000
END:DAYLIGHT
BEGIN:STANDARD
TZOFFSETFROM:-0500
TZOFFSETTO:-0600
TZNAME:CST
DTSTART:20241103T070000
END:STANDARD
BEGIN:DAYLIGHT
TZOFFSETFROM:-0600
TZOFFSETTO:-0500
TZNAME:CDT
DTSTART:20250309T080000
END:DAYLIGHT
BEGIN:STANDARD
TZOFFSETFROM:-0500
TZOFFSETTO:-0600
TZNAME:CST
DTSTART:20251102T070000
END:STANDARD
END:VTIMEZONE
BEGIN:VEVENT
DTSTART;TZID=America/Indiana/Tell_City:20240407T110000
DTEND;TZID=America/Indiana/Tell_City:20240407T160000
DTSTAMP:20260423T223039
CREATED:20240116T045239Z
LAST-MODIFIED:20240116T050119Z
UID:1748-1712487600-1712505600@lspfriends.com
SUMMARY:Total Eclipse of the Park
DESCRIPTION:Lincoln State Park and the Friends of Lincoln State Park will host “Total Eclipse of the Park” on Sunday\, April 7\, 2024\, from 11 a.m. to 4 p.m. central time as one of the anchor events of Spencer County’s offerings the weekend ahead of the more than two minutes of total darkness that will occur as part of the Monday\, April 8\, 2024\, total solar eclipse. \n“Total Eclipse of the Park” will feature food trucks\, activities for children of all ages\, and live music from at least three live bands throughout the day. The featured entertainment\, Sonny & the Moons\, is comprised of Nashville studio musicians that will perform a set of predominantly sun\, moon\, and eclipse-themed songs. From the obvious (“Total Eclipse of the Heart”\, “Bark at the Moon”) to the relevant (“Ain’t no Sunshine”\, “Walking on Sunshine”) to the fun (“Waiting on the Sun”) and so much more! \nIn addition to the food trucks\, beer/wine service will be available for guests 21 and over. \nTicketing Info and Details\n“Total Eclipse of the Park” is presented with support from the Spencer County Community Foundation and the Spencer County Tourism Commission and will be held in Lincoln State Park’s Troy Road Picnic area.  It will be an outdoor\, all-ages event with advanced tickets available at bit.ly/LSP-Eclipse2024 online for $9.95 per person with children 12 and under tickets at $6.95.  The per-ticket price is inclusive of any fees\, including the Lincoln State Park gate fee.  Tickets will be available the day of the event at Lincoln State Park for $12.95 per person (children 12 and under $7.95).  All proceeds will benefit the Friends of Lincoln State Park organization. \nImportant Event Policies\nNo carry-in tents\, food\, or coolers will be permitted\, although guests are welcome to bring chairs and blankets.  Similar to other area festivals and events\, a clear bag policy will be in place and the only bags allowed through the entry gates must be clear plastic\, vinyl\, or PVC tote bags no larger than 12” x 6” x 12”.  Small clutch bags (up to 4.5” x 6.5”) and medical/diaper bags will be allowed upon inspection. \nBuy Tickets
URL:https://lspfriends.com/event/eclipse2024/
LOCATION:Lincoln State Park\, 15476 County Rd 300 E\, Lincoln City\, 47552\, United States
CATEGORIES:Music/Concerts,Solar Eclipse
ATTACH;FMTTYPE=image/jpeg:https://lspfriends.com/wp-content/uploads/2024/01/Eclipse_16.9.jpg
END:VEVENT
END:VCALENDAR